0.2500000000
0.0000000000
0.0000000000
-0.2500000000
441968.6250000000
361222.6250000000
