0.2500000000
0.0000000000
0.0000000000
-0.2500000000
438609.8750000000
361355.3750000000
