0.2500000000
0.0000000000
0.0000000000
-0.2500000000
438700.1250000000
363631.8750000000
