0.2500000000
0.0000000000
0.0000000000
-0.2500000000
501593.8750000000
336154.1250000000
