0.2500000000
0.0000000000
0.0000000000
-0.2500000000
501677.6250000000
338430.8750000000
