0.2500000000
0.0000000000
0.0000000000
-0.2500000000
498231.3750000000
336277.8750000000
