0.2500000000
0.0000000000
0.0000000000
-0.2500000000
501844.6250000000
342984.1250000000
