0.2500000000
0.0000000000
0.0000000000
-0.2500000000
498483.1250000000
343107.6250000000
