0.2500000000
0.0000000000
0.0000000000
-0.2500000000
495121.6250000000
343231.8750000000
