0.2500000000
0.0000000000
0.0000000000
-0.2500000000
491760.1250000000
343356.6250000000
