0.2500000000
0.0000000000
0.0000000000
-0.2500000000
488398.6250000000
343481.6250000000
