0.2500000000
0.0000000000
0.0000000000
-0.2500000000
501928.1250000000
345260.6250000000
