0.2500000000
0.0000000000
0.0000000000
-0.2500000000
502011.8750000000
347537.3750000000
