0.2500000000
0.0000000000
0.0000000000
-0.2500000000
498567.1250000000
345384.3750000000
