0.2500000000
0.0000000000
0.0000000000
-0.2500000000
498650.8750000000
347660.8750000000
