0.2500000000
0.0000000000
0.0000000000
-0.2500000000
495205.8750000000
345508.6250000000
