0.2500000000
0.0000000000
0.0000000000
-0.2500000000
495290.1250000000
347785.1250000000
