0.2500000000
0.0000000000
0.0000000000
-0.2500000000
491844.6250000000
345633.1250000000
