0.2500000000
0.0000000000
0.0000000000
-0.2500000000
491929.3750000000
347909.8750000000
