0.2500000000
0.0000000000
0.0000000000
-0.2500000000
488483.6250000000
345758.3750000000
