0.2500000000
0.0000000000
0.0000000000
-0.2500000000
488568.6250000000
348034.8750000000
