0.2500000000
0.0000000000
0.0000000000
-0.2500000000
502095.3750000000
349814.1250000000
