0.2500000000
0.0000000000
0.0000000000
-0.2500000000
502178.8750000000
352090.6250000000
