0.2500000000
0.0000000000
0.0000000000
-0.2500000000
498734.8750000000
349937.6250000000
