0.2500000000
0.0000000000
0.0000000000
-0.2500000000
498818.8750000000
352214.3750000000
