0.2500000000
0.0000000000
0.0000000000
-0.2500000000
495374.3750000000
350061.6250000000
