0.2500000000
0.0000000000
0.0000000000
-0.2500000000
495458.6250000000
352338.3750000000
