0.2500000000
0.0000000000
0.0000000000
-0.2500000000
492013.8750000000
350186.3750000000
