0.2500000000
0.0000000000
0.0000000000
-0.2500000000
492098.6250000000
352462.8750000000
