0.2500000000
0.0000000000
0.0000000000
-0.2500000000
488653.6250000000
350311.3750000000
