0.2500000000
0.0000000000
0.0000000000
-0.2500000000
488738.3750000000
352588.1250000000
