0.2500000000
0.0000000000
0.0000000000
-0.2500000000
502262.6250000000
354367.3750000000
