0.2500000000
0.0000000000
0.0000000000
-0.2500000000
502346.1250000000
356643.8750000000
