0.2500000000
0.0000000000
0.0000000000
-0.2500000000
498902.6250000000
354490.8750000000
