0.2500000000
0.0000000000
0.0000000000
-0.2500000000
498986.6250000000
356767.3750000000
