0.2500000000
0.0000000000
0.0000000000
-0.2500000000
495542.8750000000
354614.8750000000
