0.2500000000
0.0000000000
0.0000000000
-0.2500000000
495627.1250000000
356891.6250000000
