0.2500000000
0.0000000000
0.0000000000
-0.2500000000
492183.1250000000
354739.6250000000
