0.2500000000
0.0000000000
0.0000000000
-0.2500000000
492267.8750000000
357016.1250000000
