0.2500000000
0.0000000000
0.0000000000
-0.2500000000
488823.3750000000
354864.6250000000
