0.2500000000
0.0000000000
0.0000000000
-0.2500000000
488908.3750000000
357141.1250000000
