0.2500000000
0.0000000000
0.0000000000
-0.2500000000
485037.1250000000
343607.3750000000
