0.2500000000
0.0000000000
0.0000000000
-0.2500000000
481675.8750000000
343733.6250000000
