0.2500000000
0.0000000000
0.0000000000
-0.2500000000
485122.6250000000
345883.8750000000
