0.2500000000
0.0000000000
0.0000000000
-0.2500000000
485207.8750000000
348160.6250000000
