0.2500000000
0.0000000000
0.0000000000
-0.2500000000
481761.3750000000
346010.1250000000
