0.2500000000
0.0000000000
0.0000000000
-0.2500000000
481847.1250000000
348286.6250000000
