0.2500000000
0.0000000000
0.0000000000
-0.2500000000
478400.3750000000
346136.8750000000
