0.2500000000
0.0000000000
0.0000000000
-0.2500000000
478486.3750000000
348413.3750000000
