0.2500000000
0.0000000000
0.0000000000
-0.2500000000
475125.6250000000
348540.6250000000
